Workbook

Sheet 免責事項
B2: 当Valuation Sheetのご利用にあたって
B4: 1.情報の正確性について
B5: 当Valuation Sheetは、情報を正確に提供するための努力をしておりますが、提供される情報の正確性や完全性を保証するものではありません。ユーザーが当Valuation Sheetの情報を元に取った行動の結果について、弊社は一切の責任を負いません。
B6: なお、記載されている数値は、全てダミーとなっています。
B8: 2.損害等の責任について
B9: 当Valuation Sheetの利用に関連して発生した損害について、弊社は何らの責任も負いません。
B11: 3.著作権・肖像権等について
B12: 当Valuation Sheetのファイルに関する著作権等は、当サイトまたはその権利所有者に帰属します。ユーザーは、これらの権利を尊重し、無断で営利目的のための利用や転載を行わないようお願いします。
B14: 4.無断転載の禁止
B15: 当Valuation Sheetの内容、情報、画像等の営利目的での無断での複製、転載、配布は固く禁止します。これに違反した場合、法的措置を取ることがあります。
B17: 5.機器のトラブル・メンテナンス
B18: ユーザーが当Valuation Sheetを利用する際に使用する機器のトラブルやメンテナンスに関して、当サイトは一切の責任を負いません。ユーザーは自身の機器の管理と維持を適切に行ってください。
B20: 45323 | D20: MKA Advisors株式会社
D21: 〒150-0002
D22: 東京都渋谷区渋谷2-19-15宮益坂ビルディング609
D23: ℡: 03-6363-3867
D24: info@mka-advisors.com

Sheet Output
B1: ※数値は全てダミー
B2: Valuation Summary
B3: 単位： | C3: 百万円
J5: 株式価値 | M5: 企業価値
B6: 算定手法 | C6: Benchmark | D6: Multiple | E6: 株式価値 | F6: 調整 | G6: 企業価値 | H6: レンジ幅 | I6: Min | J6: Mid | K6: Max | L6: Min | M6: Mid | N6: Max
B7: 類似取引マルチプル（参考） | C7: =財務数値!G57+財務数値!F57/2 -> 72771.5 | D7: ='Transaction Multiples'!G14 -> 16.25 | E7: =G7+F7 -> 937536.88 | F7: =DCF!$D$65-DCF!$D$77 -> -245000 | G7: =D7*C7 -> 1182536.9 | H7: 0.5 | I7: =C7*(D7-H7)+F7 -> 901151.12 | J7: =E7 -> 937536.88 | K7: =C7*(D7+H7)+F7 -> 973922.62 | L7: =C7*(D7-H7) -> 1146151.1 | M7: =G7 -> 1182536.9 | N7: =C7*(D7+H7) -> 1218922.6
B8: PBR（LTM） | C8: =財務数値!G82 -> 420000 | D8: ='Multiple Cal'!Y13 -> 1.2785714 | E8: =D8*C8 -> 537000 | F8: =DCF!$D$65-DCF!$D$77 -> -245000 | G8: =E8-F8 -> 782000 | H8: 0.25 | I8: =C8*(D8-H8) -> 432000 | J8: =E8 -> 537000 | K8: =C8*(D8+H8) -> 642000 | L8: =C8*(D8-H8)-F8 -> 677000 | M8: =G8 -> 782000 | N8: =C8*(D8+H8)-F8 -> 887000
B9: PER（来期） | C9: =財務数値!I54 -> 43157.829 | D9: ='Multiple Cal'!X13 -> 16.564626 | E9: =D9*C9 -> 714893.29 | F9: =DCF!$D$65-DCF!$D$77 -> -245000 | G9: =E9-F9 -> 959893.29 | H9: 0.5 | I9: =C9*(D9-H9) -> 693314.38 | J9: =E9 -> 714893.29 | K9: =C9*(D9+H9) -> 736472.2 | L9: =C9*(D9-H9)-F9 -> 938314.38 | M9: =G9 -> 959893.29 | N9: =C9*(D9+H9)-F9 -> 981472.2
B10: PER（今期） | C10: =財務数値!G54+財務数値!H54 -> 33606.28 | D10: ='Multiple Cal'!W13 -> 19.170068 | E10: =D10*C10 -> 644234.68 | F10: =DCF!$D$65-DCF!$D$77 -> -245000 | G10: =E10-F10 -> 889234.68 | H10: 0.5 | I10: =C10*(D10-H10) -> 627431.54 | J10: =E10 -> 644234.68 | K10: =C10*(D10+H10) -> 661037.82 | L10: =C10*(D10-H10)-F10 -> 872431.54 | M10: =G10 -> 889234.68 | N10: =C10*(D10+H10)-F10 -> 906037.82
B11: EV/EBITDA（来期） | C11: =財務数値!I57 -> 76205 | D11: ='Multiple Cal'!U13 -> 12.315363 | E11: =G11+F11 -> 693492.22 | F11: =DCF!$D$65-DCF!$D$77 -> -245000 | G11: =C11*D11 -> 938492.22 | H11: 0.5 | I11: =C11*(D11-H11)+F11 -> 655389.72 | J11: =E11 -> 693492.22 | K11: =C11*(D11+H11)+F11 -> 731594.72 | L11: =C11*(D11-H11) -> 900389.72 | M11: =G11 -> 938492.22 | N11: =C11*(D11+H11) -> 976594.72
B12: EV/EBITDA（今期） | C12: =財務数値!G57+財務数値!H57 -> 74238 | D12: ='Multiple Cal'!T13 -> 13.340105 | E12: =G12+F12 -> 745342.72 | F12: =DCF!$D$65-DCF!$D$77 -> -245000 | G12: =C12*D12 -> 990342.72 | H12: 0.5 | I12: =C12*(D12-H12)+F12 -> 708223.72 | J12: =E12 -> 745342.72 | K12: =C12*(D12+H12)+F12 -> 782461.72 | L12: =C12*(D12-H12) -> 953223.72 | M12: =G12 -> 990342.72 | N12: =C12*(D12+H12) -> 1027461.7
B13: DCF法 | C13: - | D13: - | E13: =DCF!D80 -> 1077123.4 | F13: =DCF!$D$65-DCF!$D$77 -> -245000 | G13: =DCF!D68 -> 1322123.4 | H13: - | I13: =DCF!J76 -> 984561.23 | J13: =E13 -> 1077123.4 | K13: =DCF!L74 -> 1186364 | L13: =DCF!J68 -> 1229561.2 | M13: =G13 -> 1322123.4 | N13: =DCF!L66 -> 1431364
B17: 株式価値 | I17: 企業価値

Sheet DCF
B1: ※数値は全てダミー | G1: 実績← | H1: 見込み | I1: →計画
B2: =財務数値!B2 -> 百万円 | C2: =財務数値!C2 -> XXXX㈱ | D2: 21 | E2: =D2+1 -> 22 | F2: =E2+1 -> 23 | G2: =F2+1 -> 24 | H2: =F2+1 -> 24 | I2: =H2+1 -> 25 | J2: =I2+1 -> 26 | K2: =J2+1 -> 27 | L2: =K2+1 -> 28 | M2: =L2+1 -> 29 | O2: Terminal
B3: 売上高 | D3: =SUM(D4:D6) -> 600000 | E3: =SUM(E4:E6) -> 660000 | F3: =SUM(F4:F6) -> 720000 | G3: =SUM(G4:G6) -> 390000 | H3: =SUM(H4:H6) -> 390000 | I3: =SUM(I4:I6) -> 820000 | J3: =SUM(J4:J6) -> 870000 | K3: =SUM(K4:K6) -> 920000 | ... M3: =SUM(M4:M6) -> 1020000 | O3: =SUM(O4:O6) -> 1020000
C4: =財務数値!C4 -> AAAA事業 | D4: =財務数値!D4 -> 300000 | E4: =財務数値!E4 -> 330000 | F4: =財務数値!F4 -> 350000 | G4: =財務数値!G4 -> 180000 | H4: =財務数値!H4*Parameter設定!D11 -> 180000 | I4: =財務数値!I4*Parameter設定!E11 -> 400000 | J4: =財務数値!J4*Parameter設定!F11 -> 420000 | K4: =財務数値!K4*Parameter設定!G11 -> 440000 | L4: =財務数値!L4*Parameter設定!H11 -> 460000 | M4: =財務数値!M4*Parameter設定!I11 -> 480000 | O4: =M4 -> 480000
C5: =財務数値!C5 -> BBBB事業 | D5: =財務数値!D5 -> 200000 | E5: =財務数値!E5 -> 220000 | F5: =財務数値!F5 -> 250000 | G5: =財務数値!G5 -> 130000 | H5: =財務数値!H5*Parameter設定!D15 -> 130000 | I5: =財務数値!I5*Parameter設定!E15 -> 280000 | J5: =財務数値!J5*Parameter設定!F15 -> 300000 | K5: =財務数値!K5*Parameter設定!G15 -> 320000 | L5: =財務数値!L5*Parameter設定!H15 -> 340000 | M5: =財務数値!M5*Parameter設定!I15 -> 360000 | O5: =M5 -> 360000
C6: =財務数値!C6 -> CCCC事業 | D6: =財務数値!D6 -> 100000 | E6: =財務数値!E6 -> 110000 | F6: =財務数値!F6 -> 120000 | G6: =財務数値!G6 -> 80000 | H6: =財務数値!H6*Parameter設定!D19 -> 80000 | I6: =財務数値!I6*Parameter設定!E19 -> 140000 | J6: =財務数値!J6*Parameter設定!F19 -> 150000 | K6: =財務数値!K6*Parameter設定!G19 -> 160000 | L6: =財務数値!L6*Parameter設定!H19 -> 170000 | M6: =財務数値!M6*Parameter設定!I19 -> 180000 | O6: =M6 -> 180000
B7: 売上原価 | D7: =SUM(D8,D11,D14) -> 340000 | E7: =SUM(E8,E11,E14) -> 358000 | F7: =SUM(F8,F11,F14) -> 375000 | G7: =SUM(G8,G11,G14) -> 191000 | H7: =SUM(H8,H11,H14) -> 191000 | I7: =SUM(I8,I11,I14) -> 404000 | J7: =SUM(J8,J11,J14) -> 418000 | K7: =SUM(K8,K11,K14) -> 432000 | ... M7: =SUM(M8,M11,M14) -> 460000 | O7: =SUM(O8,O11,O14) -> 460000
C8: =財務数値!C8 -> AAAA事業 | D8: =SUM(D10:D11) -> 200000 | E8: =SUM(E10:E11) -> 212000 | F8: =SUM(F10:F11) -> 220000 | G8: =SUM(G10:G11) -> 112000 | H8: =SUM(H10:H11) -> 112000 | I8: =SUM(I10:I11) -> 240000 | J8: =SUM(J10:J11) -> 248000 | K8: =SUM(K10:K11) -> 256000 | ... M8: =SUM(M10:M11) -> 272000 | O8: =SUM(O10:O11) -> 272000
C9: 利益率 | D9: =D8/D$3 -> 0.33333333 | E9: =E8/E$3 -> 0.32121212 | F9: =F8/F$3 -> 0.30555556 | G9: =G8/G$3 -> 0.28717949 | H9: =H8/H$3 -> 0.28717949 | I9: =I8/I$3 -> 0.29268293 | J9: =J8/J$3 -> 0.28505747 | K9: =K8/K$3 -> 0.27826087 | ... M9: =M8/M$3 -> 0.26666667 | O9: =O8/O$3 -> 0.26666667
C10: =財務数値!C9 -> 変動費 | D10: =財務数値!D9 -> 120000 | E10: =財務数値!E9 -> 132000 | F10: =財務数値!F9 -> 140000 | G10: =財務数値!G9 -> 72000 | H10: =財務数値!H9*Parameter設定!D25 -> 72000 | I10: =財務数値!I9*Parameter設定!E25 -> 160000 | J10: =財務数値!J9*Parameter設定!F25 -> 168000 | K10: =財務数値!K9*Parameter設定!G25 -> 176000 | L10: =財務数値!L9*Parameter設定!H25 -> 184000 | M10: =財務数値!M9*Parameter設定!I25 -> 192000 | O10: =M10 -> 192000
C11: =財務数値!C10 -> 固定費 | D11: =財務数値!D10 -> 80000 | E11: =財務数値!E10 -> 80000 | F11: =財務数値!F10 -> 80000 | G11: =財務数値!G10 -> 40000 | H11: =財務数値!H10*Parameter設定!D26 -> 40000 | I11: =財務数値!I10*Parameter設定!E26 -> 80000 | J11: =財務数値!J10*Parameter設定!F26 -> 80000 | K11: =財務数値!K10*Parameter設定!G26 -> 80000 | L11: =財務数値!L10*Parameter設定!H26 -> 80000 | M11: =財務数値!M10*Parameter設定!I26 -> 80000 | O11: =M11 -> 80000
C12: =財務数値!C11 -> BBBB事業 | D12: =SUM(D14:D15) -> 120000 | E12: =SUM(E14:E15) -> 126000 | F12: =SUM(F14:F15) -> 135000 | G12: =SUM(G14:G15) -> 69000 | H12: =SUM(H14:H15) -> 69000 | I12: =SUM(I14:I15) -> 144000 | J12: =SUM(J14:J15) -> 150000 | K12: =SUM(K14:K15) -> 156000 | ... M12: =SUM(M14:M15) -> 168000 | O12: =SUM(O14:O15) -> 168000
C13: 利益率 | D13: =D12/D$3 -> 0.2 | E13: =E12/E$3 -> 0.19090909 | F13: =F12/F$3 -> 0.1875 | G13: =G12/G$3 -> 0.17692308 | H13: =H12/H$3 -> 0.17692308 | I13: =I12/I$3 -> 0.17560976 | J13: =J12/J$3 -> 0.17241379 | K13: =K12/K$3 -> 0.16956522 | ... M13: =M12/M$3 -> 0.16470588 | O13: =O12/O$3 -> 0.16470588
C14: =財務数値!C12 -> 変動費 | D14: =財務数値!D12 -> 60000 | E14: =財務数値!E12 -> 66000 | F14: =財務数値!F12 -> 75000 | G14: =財務数値!G12 -> 39000 | H14: =財務数値!H12*Parameter設定!D28 -> 39000 | I14: =財務数値!I12*Parameter設定!E28 -> 84000 | J14: =財務数値!J12*Parameter設定!F28 -> 90000 | K14: =財務数値!K12*Parameter設定!G28 -> 96000 | L14: =財務数値!L12*Parameter設定!H28 -> 102000 | M14: =財務数値!M12*Parameter設定!I28 -> 108000 | O14: =M14 -> 108000
C15: =財務数値!C13 -> 固定費 | D15: =財務数値!D13 -> 60000 | E15: =財務数値!E13 -> 60000 | F15: =財務数値!F13 -> 60000 | G15: =財務数値!G13 -> 30000 | H15: =財務数値!H13*Parameter設定!D29 -> 30000 | I15: =財務数値!I13*Parameter設定!E29 -> 60000 | J15: =財務数値!J13*Parameter設定!F29 -> 60000 | K15: =財務数値!K13*Parameter設定!G29 -> 60000 | L15: =財務数値!L13*Parameter設定!H29 -> 60000 | M15: =財務数値!M13*Parameter設定!I29 -> 60000 | O15: =M15 -> 60000
C16: =財務数値!C14 -> CCCC事業 | D16: =SUM(D18:D19) -> 110000 | E16: =SUM(E18:E19) -> 116000 | F16: =SUM(F18:F19) -> 122000 | G16: =SUM(G18:G19) -> 73000 | H16: =SUM(H18:H19) -> 73000 | I16: =SUM(I18:I19) -> 134000 | J16: =SUM(J18:J19) -> 140000 | K16: =SUM(K18:K19) -> 146000 | ... M16: =SUM(M18:M19) -> 158000 | O16: =SUM(O18:O19) -> 158000
C17: 利益率 | D17: =D16/D$3 -> 0.18333333 | E17: =E16/E$3 -> 0.17575758 | F17: =F16/F$3 -> 0.16944444 | G17: =G16/G$3 -> 0.18717949 | H17: =H16/H$3 -> 0.18717949 | I17: =I16/I$3 -> 0.16341463 | J17: =J16/J$3 -> 0.16091954 | K17: =K16/K$3 -> 0.15869565 | ... M17: =M16/M$3 -> 0.15490196 | O17: =O16/O$3 -> 0.15490196
C18: =財務数値!C15 -> 変動費 | D18: =財務数値!D15 -> 60000 | E18: =財務数値!E15 -> 66000 | F18: =財務数値!F15 -> 72000 | G18: =財務数値!G15 -> 48000 | H18: =財務数値!H15*Parameter設定!D31 -> 48000 | I18: =財務数値!I15*Parameter設定!E31 -> 84000 | J18: =財務数値!J15*Parameter設定!F31 -> 90000 | K18: =財務数値!K15*Parameter設定!G31 -> 96000 | L18: =財務数値!L15*Parameter設定!H31 -> 102000 | M18: =財務数値!M15*Parameter設定!I31 -> 108000 | O18: =M18 -> 108000
C19: =財務数値!C16 -> 固定費 | D19: =財務数値!D16 -> 50000 | E19: =財務数値!E16 -> 50000 | F19: =財務数値!F16 -> 50000 | G19: =財務数値!G16 -> 25000 | H19: =財務数値!H16*Parameter設定!D32 -> 25000 | I19: =財務数値!I16*Parameter設定!E32 -> 50000 | J19: =財務数値!J16*Parameter設定!F32 -> 50000 | K19: =財務数値!K16*Parameter設定!G32 -> 50000 | L19: =財務数値!L16*Parameter設定!H32 -> 50000 | M19: =財務数値!M16*Parameter設定!I32 -> 50000 | O19: =M19 -> 50000
B20: 売上総利益 | D20: =SUM(D22:D26) -> 170000.3 | E20: =SUM(E22:E26) -> 206000.32 | F20: =SUM(F22:F26) -> 243000.34 | G20: =SUM(G22:G26) -> 136000.33 | H20: =SUM(H22:H26) -> 136000.33 | I20: =SUM(I22:I26) -> 302000.36 | J20: =SUM(J22:J26) -> 332000.37 | K20: =SUM(K22:K26) -> 362000.38 | ... M20: =SUM(M22:M26) -> 422000.39 | O20: =SUM(O22:O26) -> 422000.39
C21: 利益率 | D21: =D20/D$3 -> 0.28333383 | E21: =E20/E$3 -> 0.3121217 | F21: =F20/F$3 -> 0.33750047 | G21: =G20/G$3 -> 0.3487188 | H21: =H20/H$3 -> 0.3487188 | I21: =I20/I$3 -> 0.36829312 | J21: =J20/J$3 -> 0.38160962 | K21: =K20/K$3 -> 0.39347867 | ... M21: =M20/M$3 -> 0.41372587 | O21: =O20/O$3 -> 0.41372587
C22: AAAA事業 | D22: =D4-D8 -> 100000 | E22: =E4-E8 -> 118000 | F22: =F4-F8 -> 130000 | G22: =G4-G8 -> 68000 | H22: =H4-H8 -> 68000 | I22: =I4-I8 -> 160000 | J22: =J4-J8 -> 172000 | K22: =K4-K8 -> 184000 | ... M22: =M4-M8 -> 208000 | O22: =O4-O8 -> 208000
C23: 利益率 | D23: =D22/D$3 -> 0.16666667 | E23: =E22/E$3 -> 0.17878788 | F23: =F22/F$3 -> 0.18055556 | G23: =G22/G$3 -> 0.17435897 | H23: =H22/H$3 -> 0.17435897 | I23: =I22/I$3 -> 0.19512195 | J23: =J22/J$3 -> 0.19770115 | K23: =K22/K$3 -> 0.2 | ... M23: =M22/M$3 -> 0.20392157 | O23: =O22/O$3 -> 0.20392157
C24: BBBB事業 | D24: =D5-D12 -> 80000 | E24: =E5-E12 -> 94000 | F24: =F5-F12 -> 115000 | G24: =G5-G12 -> 61000 | H24: =H5-H12 -> 61000 | I24: =I5-I12 -> 136000 | J24: =J5-J12 -> 150000 | K24: =K5-K12 -> 164000 | ... M24: =M5-M12 -> 192000 | O24: =O5-O12 -> 192000
C25: 利益率 | D25: =D24/D$3 -> 0.13333333 | E25: =E24/E$3 -> 0.14242424 | F25: =F24/F$3 -> 0.15972222 | G25: =G24/G$3 -> 0.15641026 | H25: =H24/H$3 -> 0.15641026 | I25: =I24/I$3 -> 0.16585366 | J25: =J24/J$3 -> 0.17241379 | K25: =K24/K$3 -> 0.17826087 | ... M25: =M24/M$3 -> 0.18823529 | O25: =O24/O$3 -> 0.18823529
C26: CCCC事業 | D26: =D6-D16 -> -10000 | E26: =E6-E16 -> -6000 | F26: =F6-F16 -> -2000 | G26: =G6-G16 -> 7000 | H26: =H6-H16 -> 7000 | I26: =I6-I16 -> 6000 | J26: =J6-J16 -> 10000 | K26: =K6-K16 -> 14000 | ... M26: =M6-M16 -> 22000 | O26: =O6-O16 -> 22000
C27: 利益率 | D27: =D26/D$3 -> -0.016666667 | E27: =E26/E$3 -> -0.0090909091 | F27: =F26/F$3 -> -0.0027777778 | G27: =G26/G$3 -> 0.017948718 | H27: =H26/H$3 -> 0.017948718 | I27: =I26/I$3 -> 0.0073170732 | J27: =J26/J$3 -> 0.011494253 | K27: =K26/K$3 -> 0.015217391 | ... M27: =M26/M$3 -> 0.021568627 | O27: =O26/O$3 -> 0.021568627
B28: 販売費および一般管理費 | D28: =D29+D30 -> 163100 | E28: =E29+E30 -> 179035 | F28: =F29+F30 -> 196695 | G28: =G29+G30 -> 111381 | H28: =H29+H30 -> 111381 | I28: =I29+I30 -> 239795 | J28: =J29+J30 -> 254199 | K28: =K29+K30 -> 269044 | ... M28: =M29+M30 -> 300236 | O28: =O29+O30 -> 300236
C29: =Parameter設定!N25 -> 変動費 | D29: =SUMIF(財務数値!$Q$23:$Q$39,Parameter設定!$N$25,財務数値!D$23:D$39) -> 12300 | E29: =SUMIF(財務数値!$Q$23:$Q$39,Parameter設定!$N$25,財務数値!E$23:E$39) -> 13530 | F29: =SUMIF(財務数値!$Q$23:$Q$39,Parameter設定!$N$25,財務数値!F$23:F$39) -> 14883 | G29: =SUMIF(財務数値!$Q$23:$Q$39,Parameter設定!$N$25,財務数値!G$23:G$39) -> 8184 | H29: =SUMIF(財務数値!$Q$23:$Q$39,Parameter設定!$N$25,財務数値!H$23:H$39)*Parameter設定!D34 -> 8184 | I29: =SUMIF(財務数値!$Q$23:$Q$39,Parameter設定!$N$25,財務数値!I$23:I$39)*Parameter設定!E34 -> 19808 | J29: =SUMIF(財務数値!$Q$23:$Q$39,Parameter設定!$N$25,財務数値!J$23:J$39)*Parameter設定!F34 -> 21788 | K29: =SUMIF(財務数値!$Q$23:$Q$39,Parameter設定!$N$25,財務数値!K$23:K$39)*Parameter設定!G34 -> 23967 | L29: =SUMIF(財務数値!$Q$23:$Q$39,Parameter設定!$N$25,財務数値!L$23:L$39)*Parameter設定!H34 -> 26364 | M29: =SUMIF(財務数値!$Q$23:$Q$39,Parameter設定!$N$25,財務数値!M$23:M$39)*Parameter設定!I34 -> 29000 | O29: =M29 -> 29000
C30: =Parameter設定!N26 -> 固定費 | D30: =SUMIF(財務数値!$Q$23:$Q$39,Parameter設定!$N$26,財務数値!D$23:D$39) -> 150800 | E30: =SUMIF(財務数値!$Q$23:$Q$39,Parameter設定!$N$26,財務数値!E$23:E$39) -> 165505 | F30: =SUMIF(財務数値!$Q$23:$Q$39,Parameter設定!$N$26,財務数値!F$23:F$39) -> 181812 | G30: =SUMIF(財務数値!$Q$23:$Q$39,Parameter設定!$N$26,財務数値!G$23:G$39) -> 103197 | H30: =SUMIF(財務数値!$Q$23:$Q$39,Parameter設定!$N$26,財務数値!H$23:H$39)*Parameter設定!D35 -> 103197 | I30: =SUMIF(財務数値!$Q$23:$Q$39,Parameter設定!$N$26,財務数値!I$23:I$39)*Parameter設定!E35 -> 219987 | J30: =SUMIF(財務数値!$Q$23:$Q$39,Parameter設定!$N$26,財務数値!J$23:J$39)*Parameter設定!F35 -> 232411 | K30: =SUMIF(財務数値!$Q$23:$Q$39,Parameter設定!$N$26,財務数値!K$23:K$39)*Parameter設定!G35 -> 245077 | L30: =SUMIF(財務数値!$Q$23:$Q$39,Parameter設定!$N$26,財務数値!L$23:L$39)*Parameter設定!H35 -> 258010 | M30: =SUMIF(財務数値!$Q$23:$Q$39,Parameter設定!$N$26,財務数値!M$23:M$39)*Parameter設定!I35 -> 271236 | O30: =M30 -> 271236
B31: 営業利益 | D31: =D20-D28 -> 6900.3 | E31: =E20-E28 -> 26965.321 | F31: =F20-F28 -> 46305.34 | G31: =G20-G28 -> 24619.331 | H31: =H20-H28 -> 24619.331 | I31: =I20-I28 -> 62205.361 | J31: =J20-J28 -> 77801.37 | K31: =K20-K28 -> 92956.378 | ... M31: =M20-M28 -> 121764.39 | O31: =O20-O28 -> 121764.39
C32: =財務数値!C29 -> 減価償却費 | D32: =D56 -> 15000 | E32: =E56 -> 20000 | F32: =F56 -> 25000 | G32: =G56 -> 12500 | H32: =H56 -> 12500 | I32: =I56 -> 14000 | J32: =J56 -> 13000 | K32: =K56 -> 12000 | ... M32: =M56 -> 10000 | O32: =M32 -> 10000
C33: =財務数値!C56 -> のれん償却費 | D33: =財務数値!D56 -> 0 | E33: =財務数値!E56 -> 0 | F33: =財務数値!F56 -> 0 | G33: =財務数値!G56 -> 0 | H33: =財務数値!H56 -> 0 | I33: =財務数値!I56 -> 0 | J33: =財務数値!J56 -> 0 | ... M33: =財務数値!M56 -> 0 | O33: =M33 -> 0
B34: EBITDA | D34: =D31+D32 -> 21900.3 | E34: =E31+E32 -> 46965.321 | F34: =F31+F32 -> 71305.34 | G34: =G31+G32 -> 37119.331 | H34: =H31+H32 -> 37119.331 | I34: =I31+I32 -> 76205.361 | J34: =J31+J32 -> 90801.37 | K34: =K31+K32 -> 104956.38 | ... M34: =M31+M32 -> 131764.39 | O34: =O31+O32 -> 131764.39
B35: -） | C35: 法人税相当額 | D35: =D31*$C$36 -> 2112.8719 | E35: =E31*$C$36 -> 8256.7814 | F35: =F31*$C$36 -> 14178.695 | G35: =G31*$C$36 -> 7538.4391 | H35: =H31*$C$36 -> 7538.4391 | I35: =I31*$C$36 -> 19047.282 | J35: =J31*$C$36 -> 23822.78 | K35: =K31*$C$36 -> 28463.243 | ... M35: =M31*$C$36 -> 37284.257 | O35: =O31*$C$36 -> 37284.257
C36: 0.3062
B37: NOPLAT | D37: =D31-D35 -> 4787.4281 | E37: =E31-E35 -> 18708.54 | F37: =F31-F35 -> 32126.645 | G37: =G31-G35 -> 17080.892 | H37: =H31-H35 -> 17080.892 | I37: =I31-I35 -> 43158.079 | J37: =J31-J35 -> 53978.591 | K37: =K31-K35 -> 64493.135 | ... M37: =M31-M35 -> 84480.135 | O37: =O31-O35 -> 84480.135
B38: +） | C38: 減価償却費 | D38: =D32 -> 15000 | E38: =E32 -> 20000 | F38: =F32 -> 25000 | G38: =G32 -> 12500 | H38: =H32 -> 12500 | I38: =I32 -> 14000 | J38: =J32 -> 13000 | K38: =K32 -> 12000 | ... M38: =M32 -> 10000 | O38: =O32 -> 10000
B39: -） | C39: 設備投資 | D39: =SUM(D54:D55) -> 30000 | E39: =SUM(E54:E55) -> 40000 | F39: =SUM(F54:F55) -> 30000 | G39: =SUM(G54:G55) -> 20000 | H39: =SUM(H54:H55) -> 15000 | I39: =SUM(I54:I55) -> 10000 | J39: =SUM(J54:J55) -> 10000 | K39: =SUM(K54:K55) -> 10000 | ... M39: =SUM(M54:M55) -> 10000 | O39: =M39 -> 10000
B40: ±） | C40: 運転資本増減 | D40: =D51 -> - | E40: =E51 -> 5000 | F40: =F51 -> 5000 | G40: =G51 -> 10000 | H40: =H51 -> 4471.2307 | I40: =I51 -> 7740.6535 | J40: =J51 -> 12125.489 | K40: =K51 -> 12125.489 | ... M40: =M51 -> 12125.489 | O40: =O51 -> 0
...

Sheet Parameter設定
B1: ※数値は全てダミー
B2: WACC | C2: 0.07
B3: 永久成長率 | C3: 0.01
B4: シナリオ | C4: 1 | D4: 1 | E4: マネジメントケース
D5: 2 | E5: ダウンサイドケース
D6: 3 | E6: アップサイドケース
D8: 見込み | E8: →計画
C9: =財務数値!C2 -> XXXX㈱ | D9: 24 | E9: =D9+1 -> 25 | F9: =E9+1 -> 26 | G9: =F9+1 -> 27 | H9: =G9+1 -> 28 | I9: =H9+1 -> 29 | K9: Parameters | L9: 補足説明
B10: =財務数値!B3 -> 売上高 | D10: =DCF!H3/財務数値!H3 -> 1 | E10: =DCF!I3/財務数値!I3 -> 1 | F10: =DCF!J3/財務数値!J3 -> 1 | G10: =DCF!K3/財務数値!K3 -> 1 | H10: =DCF!L3/財務数値!L3 -> 1 | I10: =DCF!M3/財務数値!M3 -> 1 | L10: 各ケース売上高／マネジメントケース売上高
B11: =財務数値!C4 -> AAAA事業 | C11: {=_xlfn.SWITCH($C$4,1,C12,2,C13,3,C14)} -> マネジメントケース | D11: {=_xlfn.SWITCH($C$4,1,D12,2,D13,3,D14)} -> 1 | E11: {=_xlfn.SWITCH($C$4,1,E12,2,E13,3,E14)} -> 1 | F11: {=_xlfn.SWITCH($C$4,1,F12,2,F13,3,F14)} -> 1 | G11: {=_xlfn.SWITCH($C$4,1,G12,2,G13,3,G14)} -> 1 | H11: {=_xlfn.SWITCH($C$4,1,H12,2,H13,3,H14)} -> 1 | I11: {=_xlfn.SWITCH($C$4,1,I12,2,I13,3,I14)} -> 1
C12: =$E$4 -> マネジメントケース | D12: =K12 -> 1 | E12: =D12 -> 1 | F12: =E12 -> 1 | G12: =F12 -> 1 | H12: =G12 -> 1 | I12: =H12 -> 1 | K12: 1 | L12: 売り手から提示された事業計画の売上高をそのまま採用
C13: =$E$5 -> ダウンサイドケース | D13: =K13 -> 0.95 | E13: =D13 -> 0.95 | F13: =E13 -> 0.95 | G13: =F13 -> 0.95 | H13: =G13 -> 0.95 | I13: =H13 -> 0.95 | K13: 0.95 | L13: 売り手から提示された事業計画の売上高を毎期1％減とする。
C14: =$E$6 -> アップサイドケース | D14: =K14 -> 1.05 | E14: =D14 -> 1.05 | F14: =E14 -> 1.05 | G14: =F14 -> 1.05 | H14: =G14 -> 1.05 | I14: =H14 -> 1.05 | K14: 1.05 | L14: 売り手から提示された事業計画の売上高を毎期1％増とする。
B15: =財務数値!C5 -> BBBB事業 | C15: {=_xlfn.SWITCH($C$4,1,C16,2,C17,3,C18)} -> マネジメントケース | D15: {=_xlfn.SWITCH($C$4,1,D16,2,D17,3,D18)} -> 1 | E15: {=_xlfn.SWITCH($C$4,1,E16,2,E17,3,E18)} -> 1 | F15: {=_xlfn.SWITCH($C$4,1,F16,2,F17,3,F18)} -> 1 | G15: {=_xlfn.SWITCH($C$4,1,G16,2,G17,3,G18)} -> 1 | H15: {=_xlfn.SWITCH($C$4,1,H16,2,H17,3,H18)} -> 1 | I15: {=_xlfn.SWITCH($C$4,1,I16,2,I17,3,I18)} -> 1
C16: =$E$4 -> マネジメントケース | D16: =K16 -> 1 | E16: =D16 -> 1 | F16: =E16 -> 1 | G16: =F16 -> 1 | H16: =G16 -> 1 | I16: =H16 -> 1 | K16: =K12 -> 1 | L16: 売り手から提示された事業計画の売上高をそのまま採用
C17: =$E$5 -> ダウンサイドケース | D17: =K17 -> 0.98 | E17: =D17 -> 0.98 | F17: =E17 -> 0.98 | G17: =F17 -> 0.98 | H17: =G17 -> 0.98 | I17: =H17 -> 0.98 | K17: 0.98 | L17: 売り手から提示された事業計画の売上高を毎期0.5％減とする。
C18: =$E$6 -> アップサイドケース | D18: =K18 -> 1.02 | E18: =D18 -> 1.02 | F18: =E18 -> 1.02 | G18: =F18 -> 1.02 | H18: =G18 -> 1.02 | I18: =H18 -> 1.02 | K18: 1.02 | L18: 売り手から提示された事業計画の売上高を毎期0.5％増とする。
B19: =財務数値!C6 -> CCCC事業 | C19: {=_xlfn.SWITCH($C$4,1,C20,2,C21,3,C22)} -> マネジメントケース | D19: {=_xlfn.SWITCH($C$4,1,D20,2,D21,3,D22)} -> 1 | E19: {=_xlfn.SWITCH($C$4,1,E20,2,E21,3,E22)} -> 1 | F19: {=_xlfn.SWITCH($C$4,1,F20,2,F21,3,F22)} -> 1 | G19: {=_xlfn.SWITCH($C$4,1,G20,2,G21,3,G22)} -> 1 | H19: {=_xlfn.SWITCH($C$4,1,H20,2,H21,3,H22)} -> 1 | I19: {=_xlfn.SWITCH($C$4,1,I20,2,I21,3,I22)} -> 1
C20: =$E$4 -> マネジメントケース | D20: =K20 -> 1 | E20: =D20 -> 1 | F20: =E20 -> 1 | G20: =F20 -> 1 | H20: =G20 -> 1 | I20: =H20 -> 1 | K20: =K16 -> 1 | L20: 売り手から提示された事業計画の売上高をそのまま採用
C21: =$E$5 -> ダウンサイドケース | D21: =K21 -> 0.97 | E21: =D21 -> 0.97 | F21: =E21 -> 0.97 | G21: =F21 -> 0.97 | H21: =G21 -> 0.97 | I21: =H21 -> 0.97 | K21: 0.97 | L21: 売り手から提示された事業計画の売上高を毎期1.5％減とする。
C22: =$E$6 -> アップサイドケース | D22: =K22 -> 1.03 | E22: =D22 -> 1.03 | F22: =E22 -> 1.03 | G22: =F22 -> 1.03 | H22: =G22 -> 1.03 | I22: =H22 -> 1.03 | K22: 1.03 | L22: 売り手から提示された事業計画の売上高を毎期1.5％増とする。
B23: 売上原価
B24: =財務数値!C8 -> AAAA事業 | N24: リスト
B25: =財務数値!C9 -> 変動費 | C25: {=_xlfn.SWITCH($C$4,1,C12,2,C13,3,C14)} -> マネジメントケース | D25: {=_xlfn.SWITCH($C$4,1,D12,2,D13,3,D14)} -> 1 | E25: {=_xlfn.SWITCH($C$4,1,E12,2,E13,3,E14)} -> 1 | F25: {=_xlfn.SWITCH($C$4,1,F12,2,F13,3,F14)} -> 1 | G25: {=_xlfn.SWITCH($C$4,1,G12,2,G13,3,G14)} -> 1 | H25: {=_xlfn.SWITCH($C$4,1,H12,2,H13,3,H14)} -> 1 | I25: {=_xlfn.SWITCH($C$4,1,I12,2,I13,3,I14)} -> 1 | K25: 変動費 | N25: 変動費
B26: =財務数値!C10 -> 固定費 | C26: {=_xlfn.SWITCH($C$4,1,C12,2,C13,3,C14)} -> マネジメントケース | D26: {=_xlfn.SWITCH($C$4,1,D$12,2,D$12,3,D$12)} -> 1 | E26: {=_xlfn.SWITCH($C$4,1,E$12,2,E$12,3,E$12)} -> 1 | F26: {=_xlfn.SWITCH($C$4,1,F$12,2,F$12,3,F$12)} -> 1 | G26: {=_xlfn.SWITCH($C$4,1,G$12,2,G$12,3,G$12)} -> 1 | H26: {=_xlfn.SWITCH($C$4,1,H$12,2,H$12,3,H$12)} -> 1 | I26: {=_xlfn.SWITCH($C$4,1,I$12,2,I$12,3,I$12)} -> 1 | K26: 固定費 | N26: 固定費
B27: =財務数値!C11 -> BBBB事業
B28: =財務数値!C12 -> 変動費 | C28: {=_xlfn.SWITCH($C$4,1,C16,2,C17,3,C18)} -> マネジメントケース | D28: {=_xlfn.SWITCH($C$4,1,D16,2,D17,3,D18)} -> 1 | E28: {=_xlfn.SWITCH($C$4,1,E16,2,E17,3,E18)} -> 1 | F28: {=_xlfn.SWITCH($C$4,1,F16,2,F17,3,F18)} -> 1 | G28: {=_xlfn.SWITCH($C$4,1,G16,2,G17,3,G18)} -> 1 | H28: {=_xlfn.SWITCH($C$4,1,H16,2,H17,3,H18)} -> 1 | I28: {=_xlfn.SWITCH($C$4,1,I16,2,I17,3,I18)} -> 1 | K28: 変動費
B29: =財務数値!C13 -> 固定費 | C29: {=_xlfn.SWITCH($C$4,1,C16,2,C17,3,C18)} -> マネジメントケース | D29: {=_xlfn.SWITCH($C$4,1,D$16,2,D$16,3,D$16)} -> 1 | E29: {=_xlfn.SWITCH($C$4,1,E$16,2,E$16,3,E$16)} -> 1 | F29: {=_xlfn.SWITCH($C$4,1,F$16,2,F$16,3,F$16)} -> 1 | G29: {=_xlfn.SWITCH($C$4,1,G$16,2,G$16,3,G$16)} -> 1 | H29: {=_xlfn.SWITCH($C$4,1,H$16,2,H$16,3,H$16)} -> 1 | I29: {=_xlfn.SWITCH($C$4,1,I$16,2,I$16,3,I$16)} -> 1 | K29: 固定費
B30: =財務数値!C14 -> CCCC事業
B31: =財務数値!C15 -> 変動費 | C31: {=_xlfn.SWITCH($C$4,1,C20,2,C21,3,C22)} -> マネジメントケース | D31: {=_xlfn.SWITCH($C$4,1,D20,2,D21,3,D22)} -> 1 | E31: {=_xlfn.SWITCH($C$4,1,E20,2,E21,3,E22)} -> 1 | F31: {=_xlfn.SWITCH($C$4,1,F20,2,F21,3,F22)} -> 1 | G31: {=_xlfn.SWITCH($C$4,1,G20,2,G21,3,G22)} -> 1 | H31: {=_xlfn.SWITCH($C$4,1,H20,2,H21,3,H22)} -> 1 | I31: {=_xlfn.SWITCH($C$4,1,I20,2,I21,3,I22)} -> 1 | K31: 変動費
B32: =財務数値!C16 -> 固定費 | C32: {=_xlfn.SWITCH($C$4,1,C20,2,C21,3,C22)} -> マネジメントケース | D32: {=_xlfn.SWITCH($C$4,1,D$20,2,D$20,3,D$20)} -> 1 | E32: {=_xlfn.SWITCH($C$4,1,E$20,2,E$20,3,E$20)} -> 1 | F32: {=_xlfn.SWITCH($C$4,1,F$20,2,F$20,3,F$20)} -> 1 | G32: {=_xlfn.SWITCH($C$4,1,G$20,2,G$20,3,G$20)} -> 1 | H32: {=_xlfn.SWITCH($C$4,1,H$20,2,H$20,3,H$20)} -> 1 | I32: {=_xlfn.SWITCH($C$4,1,I$20,2,I$20,3,I$20)} -> 1 | K32: 固定費
B33: =財務数値!B22 -> 販売費および一般管理費
B34: =DCF!C29 -> 変動費 | C34: {=_xlfn.SWITCH($C$4,1,C12,2,C13,3,C14)} -> マネジメントケース | D34: =D10 -> 1 | E34: =E10 -> 1 | F34: =F10 -> 1 | G34: =G10 -> 1 | H34: =H10 -> 1 | I34: =I10 -> 1 | K34: 変動費
B35: =DCF!C30 -> 固定費 | C35: {=_xlfn.SWITCH($C$4,1,C12,2,C13,3,C14)} -> マネジメントケース | D35: =D26 -> 1 | E35: =E26 -> 1 | F35: =F26 -> 1 | G35: =G26 -> 1 | H35: =H26 -> 1 | I35: =I26 -> 1 | K35: 固定費
C36: =財務数値!C23 -> 役員報酬 | D36: =IF($K36=$N$25,D$34,IF($K36=$N$26,D$35,IF($K36=#REF!,#REF!,"-"))) -> 1 | E36: =IF($K36=$N$25,E$34,IF($K36=$N$26,E$35,IF($K36=#REF!,#REF!,"-"))) -> 1 | F36: =IF($K36=$N$25,F$34,IF($K36=$N$26,F$35,IF($K36=#REF!,#REF!,"-"))) -> 1 | G36: =IF($K36=$N$25,G$34,IF($K36=$N$26,G$35,IF($K36=#REF!,#REF!,"-"))) -> 1 | H36: =IF($K36=$N$25,H$34,IF($K36=$N$26,H$35,IF($K36=#REF!,#REF!,"-"))) -> 1 | I36: =IF($K36=$N$25,I$34,IF($K36=$N$26,I$35,IF($K36=#REF!,#REF!,"-"))) -> 1 | K36: 固定費
C37: =財務数値!C24 -> 給料手当 | D37: =IF($K37=$N$25,D$34,IF($K37=$N$26,D$35,IF($K37=#REF!,#REF!,"-"))) -> 1 | E37: =IF($K37=$N$25,E$34,IF($K37=$N$26,E$35,IF($K37=#REF!,#REF!,"-"))) -> 1 | F37: =IF($K37=$N$25,F$34,IF($K37=$N$26,F$35,IF($K37=#REF!,#REF!,"-"))) -> 1 | G37: =IF($K37=$N$25,G$34,IF($K37=$N$26,G$35,IF($K37=#REF!,#REF!,"-"))) -> 1 | H37: =IF($K37=$N$25,H$34,IF($K37=$N$26,H$35,IF($K37=#REF!,#REF!,"-"))) -> 1 | I37: =IF($K37=$N$25,I$34,IF($K37=$N$26,I$35,IF($K37=#REF!,#REF!,"-"))) -> 1 | K37: 固定費
C38: =財務数値!C25 -> 賞与 | D38: =IF($K38=$N$25,D$34,IF($K38=$N$26,D$35,IF($K38=#REF!,#REF!,"-"))) -> 1 | E38: =IF($K38=$N$25,E$34,IF($K38=$N$26,E$35,IF($K38=#REF!,#REF!,"-"))) -> 1 | F38: =IF($K38=$N$25,F$34,IF($K38=$N$26,F$35,IF($K38=#REF!,#REF!,"-"))) -> 1 | G38: =IF($K38=$N$25,G$34,IF($K38=$N$26,G$35,IF($K38=#REF!,#REF!,"-"))) -> 1 | H38: =IF($K38=$N$25,H$34,IF($K38=$N$26,H$35,IF($K38=#REF!,#REF!,"-"))) -> 1 | I38: =IF($K38=$N$25,I$34,IF($K38=$N$26,I$35,IF($K38=#REF!,#REF!,"-"))) -> 1 | K38: 変動費
C39: =財務数値!C26 -> 福利厚生費 | D39: =IF($K39=$N$25,D$34,IF($K39=$N$26,D$35,IF($K39=#REF!,#REF!,"-"))) -> 1 | E39: =IF($K39=$N$25,E$34,IF($K39=$N$26,E$35,IF($K39=#REF!,#REF!,"-"))) -> 1 | F39: =IF($K39=$N$25,F$34,IF($K39=$N$26,F$35,IF($K39=#REF!,#REF!,"-"))) -> 1 | G39: =IF($K39=$N$25,G$34,IF($K39=$N$26,G$35,IF($K39=#REF!,#REF!,"-"))) -> 1 | H39: =IF($K39=$N$25,H$34,IF($K39=$N$26,H$35,IF($K39=#REF!,#REF!,"-"))) -> 1 | I39: =IF($K39=$N$25,I$34,IF($K39=$N$26,I$35,IF($K39=#REF!,#REF!,"-"))) -> 1 | K39: 固定費
C40: =財務数値!C27 -> 業務委託費 | D40: =IF($K40=$N$25,D$34,IF($K40=$N$26,D$35,IF($K40=#REF!,#REF!,"-"))) -> 1 | E40: =IF($K40=$N$25,E$34,IF($K40=$N$26,E$35,IF($K40=#REF!,#REF!,"-"))) -> 1 | F40: =IF($K40=$N$25,F$34,IF($K40=$N$26,F$35,IF($K40=#REF!,#REF!,"-"))) -> 1 | G40: =IF($K40=$N$25,G$34,IF($K40=$N$26,G$35,IF($K40=#REF!,#REF!,"-"))) -> 1 | H40: =IF($K40=$N$25,H$34,IF($K40=$N$26,H$35,IF($K40=#REF!,#REF!,"-"))) -> 1 | I40: =IF($K40=$N$25,I$34,IF($K40=$N$26,I$35,IF($K40=#REF!,#REF!,"-"))) -> 1 | K40: 固定費
C41: =財務数値!C28 -> 荷造包装費 | D41: =IF($K41=$N$25,D$34,IF($K41=$N$26,D$35,IF($K41=#REF!,#REF!,"-"))) -> 1 | E41: =IF($K41=$N$25,E$34,IF($K41=$N$26,E$35,IF($K41=#REF!,#REF!,"-"))) -> 1 | F41: =IF($K41=$N$25,F$34,IF($K41=$N$26,F$35,IF($K41=#REF!,#REF!,"-"))) -> 1 | G41: =IF($K41=$N$25,G$34,IF($K41=$N$26,G$35,IF($K41=#REF!,#REF!,"-"))) -> 1 | H41: =IF($K41=$N$25,H$34,IF($K41=$N$26,H$35,IF($K41=#REF!,#REF!,"-"))) -> 1 | I41: =IF($K41=$N$25,I$34,IF($K41=$N$26,I$35,IF($K41=#REF!,#REF!,"-"))) -> 1 | K41: 変動費
...

Sheet 財務数値
B1: ※数値は全てダミー | G1: 実績← | H1: 見込み | I1: →計画 | O1: 24/3-29/3
B2: 百万円 | C2: XXXX㈱ | D2: 21 | E2: =D2+1 -> 22 | F2: =E2+1 -> 23 | G2: =F2+1 -> 24 | H2: =F2+1 -> 24 | I2: =H2+1 -> 25 | J2: =I2+1 -> 26 | K2: =J2+1 -> 27 | L2: =K2+1 -> 28 | M2: =L2+1 -> 29 | O2: CAGR | Q2: 固変分解
B3: 売上高 | D3: =IFERROR(SUM(D4:D6),"-") -> 600000 | E3: =IFERROR(SUM(E4:E6),"-") -> 660000 | F3: =IFERROR(SUM(F4:F6),"-") -> 720000 | G3: =IFERROR(SUM(G4:G6),"-") -> 390000 | H3: =IFERROR(SUM(H4:H6),"-") -> 390000 | I3: =IFERROR(SUM(I4:I6),"-") -> 820000 | J3: =IFERROR(SUM(J4:J6),"-") -> 870000 | K3: =IFERROR(SUM(K4:K6),"-") -> 920000 | ... M3: =IFERROR(SUM(M4:M6),"-") -> 1020000 | O3: =IFERROR(_xlfn.RRI(M$2-G$2,G3*2,M3), "-") -> 0.055118199
C4: AAAA事業 | D4: 300000 | E4: 330000 | F4: 350000 | G4: 180000 | H4: 180000 | I4: 400000 | J4: 420000 | K4: 440000 | L4: 460000 | M4: 480000 | O4: =IFERROR(_xlfn.RRI(M$2-G$2,G4*2,M4), "-") -> 0.059223841
C5: BBBB事業 | D5: 200000 | E5: 220000 | F5: 250000 | G5: 130000 | H5: 130000 | I5: 280000 | J5: 300000 | K5: 320000 | L5: 340000 | M5: 360000 | O5: =IFERROR(_xlfn.RRI(M$2-G$2,G5*2,M5), "-") -> 0.067249182
C6: CCCC事業 | D6: 100000 | E6: 110000 | F6: 120000 | G6: 80000 | H6: 80000 | I6: 140000 | J6: 150000 | K6: 160000 | L6: 170000 | M6: 180000 | O6: =IFERROR(_xlfn.RRI(M$2-G$2,G6*2,M6), "-") -> 0.023836256
B7: 売上原価 | D7: =IFERROR(SUM(D8,D11,D14),"-") -> 430000 | E7: =IFERROR(SUM(E8,E11,E14),"-") -> 454000 | F7: =IFERROR(SUM(F8,F11,F14),"-") -> 477000 | G7: =IFERROR(SUM(G8,G11,G14),"-") -> 254000 | H7: =IFERROR(SUM(H8,H11,H14),"-") -> 254000 | I7: =IFERROR(SUM(I8,I11,I14),"-") -> 518000 | J7: =IFERROR(SUM(J8,J11,J14),"-") -> 538000 | K7: =IFERROR(SUM(K8,K11,K14),"-") -> 558000 | ... M7: =IFERROR(SUM(M8,M11,M14),"-") -> 598000 | O7: =IFERROR(_xlfn.RRI(M$2-G$2,G7*2,M7), "-") -> 0.033159788
C8: AAAA事業 | D8: =IFERROR(SUM(D9:D10),"-") -> 200000 | E8: =IFERROR(SUM(E9:E10),"-") -> 212000 | F8: =IFERROR(SUM(F9:F10),"-") -> 220000 | G8: =IFERROR(SUM(G9:G10),"-") -> 112000 | H8: =IFERROR(SUM(H9:H10),"-") -> 112000 | I8: =IFERROR(SUM(I9:I10),"-") -> 240000 | J8: =IFERROR(SUM(J9:J10),"-") -> 248000 | K8: =IFERROR(SUM(K9:K10),"-") -> 256000 | ... M8: =IFERROR(SUM(M9:M10),"-") -> 272000 | O8: =IFERROR(_xlfn.RRI(M$2-G$2,G8*2,M8), "-") -> 0.039594988
C9: 変動費 | D9: 120000 | E9: 132000 | F9: 140000 | G9: 72000 | H9: 72000 | I9: 160000 | J9: 168000 | K9: 176000 | L9: 184000 | M9: 192000 | O9: =IFERROR(_xlfn.RRI(M$2-G$2,G9*2,M9), "-") -> 0.059223841 | Q9: 変動費
C10: 固定費 | D10: 80000 | E10: 80000 | F10: 80000 | G10: 40000 | H10: 40000 | I10: 80000 | J10: 80000 | K10: 80000 | L10: 80000 | M10: 80000 | O10: =IFERROR(_xlfn.RRI(M$2-G$2,G10*2,M10), "-") -> 0 | Q10: 固定費
C11: BBBB事業 | D11: =IFERROR(SUM(D12:D13),"-") -> 120000 | E11: =IFERROR(SUM(E12:E13),"-") -> 126000 | F11: =IFERROR(SUM(F12:F13),"-") -> 135000 | G11: =IFERROR(SUM(G12:G13),"-") -> 69000 | H11: =IFERROR(SUM(H12:H13),"-") -> 69000 | I11: =IFERROR(SUM(I12:I13),"-") -> 144000 | J11: =IFERROR(SUM(J12:J13),"-") -> 150000 | K11: =IFERROR(SUM(K12:K13),"-") -> 156000 | ... M11: =IFERROR(SUM(M12:M13),"-") -> 168000 | O11: =IFERROR(_xlfn.RRI(M$2-G$2,G11*2,M11), "-") -> 0.040126207
C12: 変動費 | D12: 60000 | E12: 66000 | F12: 75000 | G12: 39000 | H12: 39000 | I12: 84000 | J12: 90000 | K12: 96000 | L12: 102000 | M12: 108000 | O12: =IFERROR(_xlfn.RRI(M$2-G$2,G12*2,M12), "-") -> 0.067249182
C13: 固定費 | D13: 60000 | E13: 60000 | F13: 60000 | G13: 30000 | H13: 30000 | I13: 60000 | J13: 60000 | K13: 60000 | L13: 60000 | M13: 60000 | O13: =IFERROR(_xlfn.RRI(M$2-G$2,G13*2,M13), "-") -> 0
C14: CCCC事業 | D14: =IFERROR(SUM(D15:D16),"-") -> 110000 | E14: =IFERROR(SUM(E15:E16),"-") -> 116000 | F14: =IFERROR(SUM(F15:F16),"-") -> 122000 | G14: =IFERROR(SUM(G15:G16),"-") -> 73000 | H14: =IFERROR(SUM(H15:H16),"-") -> 73000 | I14: =IFERROR(SUM(I15:I16),"-") -> 134000 | J14: =IFERROR(SUM(J15:J16),"-") -> 140000 | K14: =IFERROR(SUM(K15:K16),"-") -> 146000 | ... M14: =IFERROR(SUM(M15:M16),"-") -> 158000 | O14: =IFERROR(_xlfn.RRI(M$2-G$2,G14*2,M14), "-") -> 0.015923125
C15: 変動費 | D15: 60000 | E15: 66000 | F15: 72000 | G15: 48000 | H15: 48000 | I15: 84000 | J15: 90000 | K15: 96000 | L15: 102000 | M15: 108000 | O15: =IFERROR(_xlfn.RRI(M$2-G$2,G15*2,M15), "-") -> 0.023836256
C16: 固定費 | D16: 50000 | E16: 50000 | F16: 50000 | G16: 25000 | H16: 25000 | I16: 50000 | J16: 50000 | K16: 50000 | L16: 50000 | M16: 50000 | O16: =IFERROR(_xlfn.RRI(M$2-G$2,G16*2,M16), "-") -> 0
B17: （内、減価償却費計） | D17: =10000 -> 10000 | E17: 15000 | F17: 20000 | G17: 10000 | H17: 10000 | I17: 9000 | J17: 8000 | K17: 7000 | L17: 6000 | M17: 5000 | O17: =IFERROR(_xlfn.RRI(M$2-G$2,G17*2,M17), "-") -> -0.24214172
B18: 売上総利益 | D18: =IFERROR(SUM(D19:D21),"-") -> 170000 | E18: =IFERROR(SUM(E19:E21),"-") -> 206000 | F18: =IFERROR(SUM(F19:F21),"-") -> 243000 | G18: =IFERROR(SUM(G19:G21),"-") -> 136000 | H18: =IFERROR(SUM(H19:H21),"-") -> 136000 | I18: =IFERROR(SUM(I19:I21),"-") -> 302000 | J18: =IFERROR(SUM(J19:J21),"-") -> 332000 | K18: =IFERROR(SUM(K19:K21),"-") -> 362000 | ... M18: =IFERROR(SUM(M19:M21),"-") -> 422000 | O18: =IFERROR(_xlfn.RRI(M$2-G$2,G18*2,M18), "-") -> 0.091814127
C19: AAAA事業 | D19: =D4-D8 -> 100000 | E19: =E4-E8 -> 118000 | F19: =F4-F8 -> 130000 | G19: =G4-G8 -> 68000 | H19: =H4-H8 -> 68000 | I19: =I4-I8 -> 160000 | J19: =J4-J8 -> 172000 | K19: =K4-K8 -> 184000 | ... M19: =M4-M8 -> 208000 | O19: =IFERROR(_xlfn.RRI(M$2-G$2,G19*2,M19), "-") -> 0.088691633
C20: BBBB事業 | D20: =D5-D11 -> 80000 | E20: =E5-E11 -> 94000 | F20: =F5-F11 -> 115000 | G20: =G5-G11 -> 61000 | H20: =H5-H11 -> 61000 | I20: =I5-I11 -> 136000 | J20: =J5-J11 -> 150000 | K20: =K5-K11 -> 164000 | ... M20: =M5-M11 -> 192000 | O20: =IFERROR(_xlfn.RRI(M$2-G$2,G20*2,M20), "-") -> 0.094934852
C21: CCCC事業 | D21: =D6-D14 -> -10000 | E21: =E6-E14 -> -6000 | F21: =F6-F14 -> -2000 | G21: =G6-G14 -> 7000 | H21: =H6-H14 -> 7000 | I21: =I6-I14 -> 6000 | J21: =J6-J14 -> 10000 | K21: =K6-K14 -> 14000 | ... M21: =M6-M14 -> 22000 | O21: =IFERROR(_xlfn.RRI(M$2-G$2,G21*2,M21), "-") -> 0.094608784
B22: 販売費および一般管理費 | D22: =IFERROR(SUM(D23:D39),"-") -> 163100 | E22: =IFERROR(SUM(E23:E39),"-") -> 179035 | F22: =IFERROR(SUM(F23:F39),"-") -> 196695 | G22: =IFERROR(SUM(G23:G39),"-") -> 111381 | H22: =IFERROR(SUM(H23:H39),"-") -> 111381 | I22: =IFERROR(SUM(I23:I39),"-") -> 239795 | J22: =IFERROR(SUM(J23:J39),"-") -> 254199 | K22: =IFERROR(SUM(K23:K39),"-") -> 269044 | ... M22: =IFERROR(SUM(M23:M39),"-") -> 300236 | O22: =IFERROR(_xlfn.RRI(M$2-G$2,G22*2,M22), "-") -> 0.06151059
C23: 役員報酬 | D23: 500 | E23: 500 | F23: 500 | G23: 500 | H23: 500 | I23: 500 | J23: 500 | K23: 500 | L23: 500 | M23: 500 | O23: =IFERROR(_xlfn.RRI(M$2-G$2,G23*2,M23), "-") -> -0.12944944 | Q23: =Parameter設定!K36 -> 固定費
C24: 給料手当 | D24: 120000 | E24: 133200 | F24: 147852 | G24: 82057 | H24: 82057 | I24: 180000 | J24: 190000 | K24: 200000 | L24: 210000 | M24: 220000 | O24: =IFERROR(_xlfn.RRI(M$2-G$2,G24*2,M24), "-") -> 0.060365063 | Q24: =Parameter設定!K37 -> 固定費
C25: 賞与 | D25: 10000 | E25: 11000 | F25: 12100 | G25: 6655 | H25: 6655 | I25: 16105 | J25: 17715 | K25: 19487 | L25: 21435 | M25: 23579 | O25: =IFERROR(_xlfn.RRI(M$2-G$2,G25*2,M25), "-") -> 0.12116483 | Q25: =Parameter設定!K38 -> 変動費
C26: 福利厚生費 | D26: 15000 | E26: 16500 | F26: 18150 | G26: 9982 | H26: 9982 | I26: 24157 | J26: 26573 | K26: 29230 | L26: 32153 | M26: 35369 | O26: =IFERROR(_xlfn.RRI(M$2-G$2,G26*2,M26), "-") -> 0.12117923 | Q26: =Parameter設定!K39 -> 固定費
C27: 業務委託費 | D27: 1000 | E27: 1000 | F27: 1000 | G27: 1000 | H27: 1000 | I27: 1000 | J27: 1000 | K27: 1000 | L27: 1000 | M27: 1000 | O27: =IFERROR(_xlfn.RRI(M$2-G$2,G27*2,M27), "-") -> -0.12944944 | Q27: =Parameter設定!K40 -> 固定費
C28: 荷造包装費 | D28: 300 | E28: 330 | F28: 363 | G28: 199 | H28: 199 | I28: 483 | J28: 531 | K28: 584 | L28: 643 | M28: 707 | O28: =IFERROR(_xlfn.RRI(M$2-G$2,G28*2,M28), "-") -> 0.1217789 | Q28: =Parameter設定!K41 -> 変動費
C29: 減価償却費 | D29: 5000 | E29: 5000 | F29: 5000 | G29: 2500 | H29: 2500 | I29: 5000 | J29: 5000 | K29: 5000 | L29: 5000 | M29: 5000 | O29: =IFERROR(_xlfn.RRI(M$2-G$2,G29*2,M29), "-") -> 0 | Q29: =Parameter設定!K42 -> 固定費
C30: 広告宣伝費 | D30: 1000 | E30: 1100 | F30: 1210 | G30: 665 | H30: 665 | I30: 1610 | J30: 1771 | K30: 1948 | L30: 2143 | M30: 2357 | O30: =IFERROR(_xlfn.RRI(M$2-G$2,G30*2,M30), "-") -> 0.12124776 | Q30: =Parameter設定!K43 -> 変動費
C31: 接待交際費 | D31: 50 | E31: 50 | F31: 50 | G31: 25 | H31: 25 | I31: 50 | J31: 50 | K31: 50 | L31: 50 | M31: 50 | O31: =IFERROR(_xlfn.RRI(M$2-G$2,G31*2,M31), "-") -> 0 | Q31: =Parameter設定!K44 -> 固定費
C32: 旅費交通費 | D32: 1000 | E32: 1100 | F32: 1210 | G32: 665 | H32: 665 | I32: 1610 | J32: 1771 | K32: 1948 | L32: 2143 | M32: 2357 | O32: =IFERROR(_xlfn.RRI(M$2-G$2,G32*2,M32), "-") -> 0.12124776 | Q32: =Parameter設定!K45 -> 変動費
C33: 通信費 | D33: 3000 | E33: 3000 | F33: 3000 | G33: 1500 | H33: 1500 | I33: 3000 | J33: 3000 | K33: 3000 | L33: 3000 | M33: 3000 | O33: =IFERROR(_xlfn.RRI(M$2-G$2,G33*2,M33), "-") -> 0 | Q33: =Parameter設定!K46 -> 固定費
C34: 消耗品費 | D34: 50 | E34: 55 | F34: 60 | G34: 33 | H34: 33 | I34: 80 | J34: 88 | K34: 97 | L34: 107 | M34: 117 | O34: =IFERROR(_xlfn.RRI(M$2-G$2,G34*2,M34), "-") -> 0.12131695 | Q34: =Parameter設定!K47 -> 固定費
... C39: 雑費 | D39: 1000 | E39: 1000 | F39: 1000 | G39: 500 | H39: 500 | I39: 1000 | J39: 1000 | K39: 1000 | L39: 1000 | M39: 1000 | O39: =IFERROR(_xlfn.RRI(M$2-G$2,G39*2,M39), "-") -> 0 | Q39: =Parameter設定!K52 -> 固定費
B40: 営業利益 | D40: =D18-D22 -> 6900 | E40: =E18-E22 -> 26965 | F40: =F18-F22 -> 46305 | G40: =G18-G22 -> 24619 | H40: =H18-H22 -> 24619 | I40: =I18-I22 -> 62205 | J40: =J18-J22 -> 77801 | K40: =K18-K22 -> 92956 | ... M40: =M18-M22 -> 121764 | O40: =IFERROR(_xlfn.RRI(M$2-G$2,G40*2,M40), "-") -> 0.19851563
C41: 利益率 | D41: =D40/D$3 -> 0.0115 | E41: =E40/E$3 -> 0.040856061 | F41: =F40/F$3 -> 0.0643125 | G41: =G40/G$3 -> 0.063125641 | H41: =H40/H$3 -> 0.063125641 | I41: =I40/I$3 -> 0.075859756 | J41: =J40/J$3 -> 0.089426437 | K41: =K40/K$3 -> 0.10103913 | ... M41: =M40/M$3 -> 0.11937647
B42: 営業外収益 | D42: =IFERROR(SUM(D43:D44),"-") -> 1500 | E42: =IFERROR(SUM(E43:E44),"-") -> 1500 | F42: =IFERROR(SUM(F43:F44),"-") -> 1500 | G42: =IFERROR(SUM(G43:G44),"-") -> 750 | H42: =IFERROR(SUM(H43:H44),"-") -> 0 | I42: =IFERROR(SUM(I43:I44),"-") -> 0 | J42: =IFERROR(SUM(J43:J44),"-") -> 0 | K42: =IFERROR(SUM(K43:K44),"-") -> 0 | ... M42: =IFERROR(SUM(M43:M44),"-") -> 0 | O42: =IFERROR(_xlfn.RRI(M$2-G$2,G42*2,M42), "-") -> -1
C43: XXX収入 | D43: 1000 | E43: 1000 | F43: 1000 | G43: 500 | O43: =IFERROR(_xlfn.RRI(M$2-G$2,G43*2,M43), "-") -> -1
C44: 雑収入 | D44: 500 | E44: 500 | F44: 500 | G44: 250 | O44: =IFERROR(_xlfn.RRI(M$2-G$2,G44*2,M44), "-") -> -1
...

Sheet WACC
B1: ※数値は全てダミー
B2: WACC | C2: 前提条件
B3: 新発10年物国債の利回り | C3: 0.01 | D3: https://www.mof.go.jp/jgbs/individual/kojinmuke/shinmadohan/issue/ten/
B4: =U14 -> βU | C4: =U23 -> 0.83321761 | D4: https://costofcapital.jp/beta/historicalbeta/
B5: Equity P ※ | C5: 0.0563 | D5: https://pages.stern.nyu.edu/~adamodar/New_Home_Page/datafile/ctryprem.html
B6: 借入コスト | C6: =AVERAGE(財務数値!E47:G47) -> 0.0095109184 | D6: 支払利息（将来予測or過去実績）※将来利息の方が望ましい。
B7: DE ratio | C7: =R23 -> 0.375 | D7: 類似会社平均（対象会社の目標D/E Ratioがあれば、採用可）
B8: 対象会社Tax Rate | C8: =DCF!C36 -> 0.3062 | D8: 実効税率
B9: Small size premium | C9: 0.03 | D9: No access to Ibbotson
B11: WACCの計算 | N11: 上場類似会社
B12: WACCは、加重平均資本コスト（Weighted Average Cost of Capital）と言い、投資家の期待収益率（資本コスト）のこと。資本コストは、①株式調達にかかるコスト（株主資本コスト）と②借入にかかるコスト（負債コスト）を加重平均したもの。 | N12: EV/EBITDA（マルチプル法）で採用した、上場類似会社をもとに、β及びD/E Raioの算出を行う。 [5～10社程度類似企業を選定するのが理想的]
B13: 【計算式】 | V13: 単位：百万円
B14: WACC = [ Ke × E / (D + E)] + [Kd × (1-T) × D / (D + E)] | N14: 上場類似会社 | O14: コード | P14: 純有利子負債(D) | Q14: 時価総額(E) | R14: D/E | S14: 税率 | T14: βL | U14: βU | V14: 決定係数(βL)
N15: AAAA | O15: 1111 | P15: 5000 | Q15: 50000 | R15: =P15/Q15 -> 0.1 | S15: 0.3062 | T15: 1 | U15: =IFERROR(T15/(1+(1-S15)*R15),"-") -> 0.93512129 | V15: 0.25
B16: 株主資本コスト（Ke）の算出： | G16: ① | H16: =H19+H20*H21+H22 -> 0.097904718 | N16: BBBB | O16: 2222 | P16: 10000 | Q16: 40000 | R16: =P16/Q16 -> 0.25 | S16: 0.3062 | T16: 1.1 | U16: =IFERROR(T16/(1+(1-S16)*R16),"-") -> 0.93740679 | V16: 0.3
N17: CCCC | O17: 3333 | P17: 15000 | Q17: 30000 | R17: =P17/Q17 -> 0.5 | S17: 0.3062 | T17: 0.9 | U17: =IFERROR(T17/(1+(1-S17)*R17),"-") -> 0.66820105 | V17: 0.07
B18: （1） | C18: Ke = Rf + (βL × Re) + Rs | N18: DDDD | O18: 4444 | P18: 20000 | Q18: 20000 | R18: =P18/Q18 -> 1 | S18: 0.3062 | T18: 0.8 | U18: =IFERROR(T18/(1+(1-S18)*R18),"-") -> 0.47231078 | V18: 0.55
C19: Rf：リスクフリーレート | H19: =C3 -> 0.01 | I19: =B3 -> 新発10年物国債の利回り | N19: EEEE | O19: 5555 | P19: 25000 | Q19: 100000 | R19: =P19/Q19 -> 0.25 | S19: 0.3062 | T19: 1.2 | U19: =IFERROR(T19/(1+(1-S19)*R19),"-") -> 1.0226256 | V19: 0.6
C20: βL：レバードベータ | H20: =(1+(1-H26)*H26)*U23 -> 1.028503 | I20: 上場類似会社をもとに算出（右記参照） | N20: FFFF | O20: 6666 | P20: 30000 | Q20: 80000 | R20: =P20/Q20 -> 0.375 | S20: 0.3062 | T20: 1.05 | U20: =IFERROR(T20/(1+(1-S20)*R20),"-") -> 0.83321761 | V20: 0.4
C21: Re：エクイティリスクプレミアム | H21: =C5 -> 0.0563 | I21: Damodaran教授の算出データを参照 | N21: GGGG | O21: 7777 | P21: 35000 | Q21: 60000 | R21: =P21/Q21 -> 0.58333333 | S21: 0.3062 | T21: 0.95 | U21: =IFERROR(T21/(1+(1-S21)*R21),"-") -> 0.67629297 | V21: 0.3
C22: Rs：サイズリスクプレミアム | H22: =C9 -> 0.03 | I22: Ibbotsonレポートより | Q22: 平均値 | R22: =AVERAGE(R15:R21) -> 0.43690476 | T22: =AVERAGE(T15:T21) -> 1 | U22: =AVERAGE(U15:U21) -> 0.79216801
Q23: 中央値 | R23: =MEDIAN(R15:R21) -> 0.375 | T23: =MEDIAN(T15:T21) -> 1 | U23: =MEDIAN(U15:U21) -> 0.83321761
B24: 借入コスト（Kd）の算出： | G24: ② | H24: =C6 -> 0.0095109184 | I24: 過去の支払利息実績
B26: D/E Ratioの算出： | G26: ③ | H26: =R23 -> 0.375 | I26: 上場類似会社の中央値（Median）
B28: 税率（T）： | G28: ④ | H28: =C8 -> 0.3062 | I28: 対象会社の税率（東京都）
B30: WACC | H30: =H16/(H26+1)+H24*(1-H28)*H26/(H26+1) -> 0.07300307 | I30: ①/(③+1)+ ②×(1-④)×③/(③+1)

Sheet Multiple Cal
B1: ※数値は全てダミー
B2: 単位：百万円 | C2: 株価：2024/●●/●●終値
B3: 上場類似企業 | C3: コード | D3: 企業価値 | E3: 時価総額 | F3: 純有利子 負債 | G3: 少数株主持分 | H3: 優先株式 | I3: 売上高 | L3: EBITDA | O3: 当期純利益 | R3: 純資産 | S3: EV/EBITDA | V3: PER | Y3: PBR
D4: （EV） | I4: LTM | J4: 今期 | K4: 来期 | L4: LTM | M4: =J4 -> 今期 | N4: =K4 -> 来期 | O4: LTM | P4: =M4 -> 今期 | Q4: =N4 -> 来期 | R4: =O4 -> LTM | S4: LTM | T4: =M4 -> 今期 | U4: =N4 -> 来期 | V4: LTM | W4: =P4 -> 今期 | X4: =Q4 -> 来期 | Y4: LTM
B5: =WACC!N15 -> AAAA | C5: =WACC!O15 -> 1111 | D5: =E5+F5+G5+H5 -> 55500 | E5: =WACC!Q15 -> 50000 | F5: =WACC!P15 -> 5000 | G5: 500 | L5: 3500 | M5: 4500 | N5: 5000 | O5: 2000 | P5: 2500 | Q5: 3000 | R5: 25000 | S5: =IFERROR($D5/L5, "n/a") -> 15.857143 | T5: =IFERROR($D5/M5, "n/a") -> 12.333333 | U5: =IFERROR($D5/N5, "n/a") -> 11.1 | V5: =IFERROR($E5/O5, "n/a") -> 25 | W5: =IFERROR($E5/P5, "n/a") -> 20 | X5: =IFERROR($E5/Q5, "n/a") -> 16.666667 | Y5: =IFERROR($E5/R5, "n/a") -> 2
B6: =WACC!N16 -> BBBB | C6: =WACC!O16 -> 2222 | D6: =E6+F6+G6+H6 -> 51000 | E6: =WACC!Q16 -> 40000 | F6: =WACC!P16 -> 10000 | G6: 1000 | L6: 2500 | M6: 3000 | N6: 3500 | O6: 1500 | P6: 1750 | Q6: 2000 | R6: 30000 | S6: =IFERROR($D6/L6, "n/a") -> 20.4 | T6: =IFERROR($D6/M6, "n/a") -> 17 | U6: =IFERROR($D6/N6, "n/a") -> 14.571429 | V6: =IFERROR($E6/O6, "n/a") -> 26.666667 | W6: =IFERROR($E6/P6, "n/a") -> 22.857143 | X6: =IFERROR($E6/Q6, "n/a") -> 20 | Y6: =IFERROR($E6/R6, "n/a") -> 1.3333333
B7: =WACC!N17 -> CCCC | C7: =WACC!O17 -> 3333 | D7: =E7+F7+G7+H7 -> 46500 | E7: =WACC!Q17 -> 30000 | F7: =WACC!P17 -> 15000 | G7: 1500 | L7: 6000 | M7: 5500 | N7: 5000 | O7: 2000 | P7: 2500 | Q7: 3000 | R7: 40000 | S7: =IFERROR($D7/L7, "n/a") -> 7.75 | T7: =IFERROR($D7/M7, "n/a") -> 8.4545455 | U7: =IFERROR($D7/N7, "n/a") -> 9.3 | V7: =IFERROR($E7/O7, "n/a") -> 15 | W7: =IFERROR($E7/P7, "n/a") -> 12 | X7: =IFERROR($E7/Q7, "n/a") -> 10 | Y7: =IFERROR($E7/R7, "n/a") -> 0.75
B8: =WACC!N18 -> DDDD | C8: =WACC!O18 -> 4444 | D8: =E8+F8+G8+H8 -> 42000 | E8: =WACC!Q18 -> 20000 | F8: =WACC!P18 -> 20000 | G8: 2000 | L8: 4000 | M8: 3750 | N8: 3500 | O8: 1500 | P8: 1250 | Q8: 1000 | R8: 15000 | S8: =IFERROR($D8/L8, "n/a") -> 10.5 | T8: =IFERROR($D8/M8, "n/a") -> 11.2 | U8: =IFERROR($D8/N8, "n/a") -> 12 | V8: =IFERROR($E8/O8, "n/a") -> 13.333333 | W8: =IFERROR($E8/P8, "n/a") -> 16 | X8: =IFERROR($E8/Q8, "n/a") -> 20 | Y8: =IFERROR($E8/R8, "n/a") -> 1.3333333
B9: =WACC!N19 -> EEEE | C9: =WACC!O19 -> 5555 | D9: =E9+F9+G9+H9 -> 127500 | E9: =WACC!Q19 -> 100000 | F9: =WACC!P19 -> 25000 | G9: 2500 | L9: 7000 | M9: 8000 | N9: 9000 | O9: 5000 | P9: 6000 | Q9: 7000 | R9: 100000 | S9: =IFERROR($D9/L9, "n/a") -> 18.214286 | T9: =IFERROR($D9/M9, "n/a") -> 15.9375 | U9: =IFERROR($D9/N9, "n/a") -> 14.166667 | V9: =IFERROR($E9/O9, "n/a") -> 20 | W9: =IFERROR($E9/P9, "n/a") -> 16.666667 | X9: =IFERROR($E9/Q9, "n/a") -> 14.285714 | Y9: =IFERROR($E9/R9, "n/a") -> 1
B10: =WACC!N20 -> FFFF | C10: =WACC!O20 -> 6666 | D10: =E10+F10+G10+H10 -> 113000 | E10: =WACC!Q20 -> 80000 | F10: =WACC!P20 -> 30000 | G10: 3000 | L10: 6000 | M10: 7000 | N10: 8000 | O10: 2500 | P10: 3000 | Q10: 4000 | R10: 60000 | S10: =IFERROR($D10/L10, "n/a") -> 18.833333 | T10: =IFERROR($D10/M10, "n/a") -> 16.142857 | U10: =IFERROR($D10/N10, "n/a") -> 14.125 | V10: =IFERROR($E10/O10, "n/a") -> 32 | W10: =IFERROR($E10/P10, "n/a") -> 26.666667 | X10: =IFERROR($E10/Q10, "n/a") -> 20 | Y10: =IFERROR($E10/R10, "n/a") -> 1.3333333
B11: =WACC!N21 -> GGGG | C11: =WACC!O21 -> 7777 | D11: =E11+F11+G11+H11 -> 98500 | E11: =WACC!Q21 -> 60000 | F11: =WACC!P21 -> 35000 | G11: 3500 | L11: 5000 | M11: 8000 | N11: 9000 | O11: 2000 | P11: 3000 | Q11: 4000 | R11: 50000 | S11: =IFERROR($D11/L11, "n/a") -> 19.7 | T11: =IFERROR($D11/M11, "n/a") -> 12.3125 | U11: =IFERROR($D11/N11, "n/a") -> 10.944444 | V11: =IFERROR($E11/O11, "n/a") -> 30 | W11: =IFERROR($E11/P11, "n/a") -> 20 | X11: =IFERROR($E11/Q11, "n/a") -> 15 | Y11: =IFERROR($E11/R11, "n/a") -> 1.2
B12: 注1. 1か月の月商分を事業用資金として勘案し、企業価値を算出。 | R12: AVE | S12: =AVERAGE(S5:S11) -> 15.893537 | T12: =AVERAGE(T5:T11) -> 13.340105 | U12: =AVERAGE(U5:U11) -> 12.315363 | V12: =AVERAGE(V5:V11) -> 23.142857 | W12: =AVERAGE(W5:W11) -> 19.170068 | X12: =AVERAGE(X5:X11) -> 16.564626 | Y12: =AVERAGE(Y5:Y11) -> 1.2785714
B13: 注2. 上記類似企業の財務数値は、連結ベース（連結がない場合、単体数値） | R13: Median | S13: =MEDIAN(S6:S12) -> 18.214286 | T13: =MEDIAN(T6:T12) -> 13.340105 | U13: =MEDIAN(U6:U12) -> 12.315363 | V13: =MEDIAN(V6:V12) -> 23.142857 | W13: =MEDIAN(W6:W12) -> 19.170068 | X13: =MEDIAN(X6:X12) -> 16.564626 | Y13: =MEDIAN(Y6:Y12) -> 1.2785714
B14: 注3. 類似企業のEV/EBITDAにバラツキがあるため、中央値（Median）を採用。

Sheet Transaction Multiples
A1: ※数値は全てダミー
A2: 発表日 | B2: 被買収者 | C2: 買い手 | D2: Sellers | E2: Ownership (%) | F2: EV/EBITDA （直前期） | G2: EV/EBITDA （LTM） | H2: Deal Value （百万円）
A3: 2023/XX/YY | B3: AAA | C3: aaa | D3: Larsen & Toubro Limited (BSE:500510) | E3: 1 | F3: 18 | G3: 17 | H3: 5000
A4: 2022/XX/YY | B4: BBB | C4: bbb | D4: The Carlyle Group Inc. (NasdaqGS:CG) | E4: 1 | F4: 17 | G4: 15.5 | H4: 10000
A5: 2021/XX/YY | B5: CCC | C5: ccc | E5: 1 | F5: 20 | G5: 19 | H5: 15000
A6: 2020/XX/YY | B6: DDD | C6: ddd | E6: 1 | F6: 15 | G6: 14 | H6: 20000
A7: 2019/XX/YY | B7: EEE | C7: eee | E7: 1 | F7: 17 | G7: 16 | H7: 25000
A8: 2018/XX/YY | B8: FFF | C8: fff | E8: 1 | F8: 22 | G8: 20 | H8: 30000
A9: 2017/XX/YY | B9: GGG | C9: ggg | E9: 1 | F9: 25 | G9: 20 | H9: 40000
A10: 2016/XX/YY | B10: HHH | C10: hhh | E10: 1 | F10: 17 | G10: 16.5 | H10: 50000
A11: 2015/XX/YY | B11: III | C11: iii | E11: 1 | F11: 15 | G11: 13 | H11: 100000
A12: 2014/XX/YY | B12: JJJ | C12: jjj | E12: 1 | F12: 12 | G12: 10 | H12: 150000
E13: AVE | F13: =AVERAGE(F3:F12) -> 17.8 | G13: =AVERAGE(G3:G12) -> 16.1
E14: Median | F14: =MEDIAN(F3:F12) -> 17 | G14: =MEDIAN(G3:G12) -> 16.25
M33: 訪問看護・通所介護系+施設系
